BEGIN:VCALENDAR
VERSION:2.0
PRODID:-//Equine Dental Providers of America - ECPv6.15.18//NONSGML v1.0//EN
CALSCALE:GREGORIAN
METHOD:PUBLISH
X-WR-CALNAME:Equine Dental Providers of America
X-ORIGINAL-URL:https://edpaonline.org
X-WR-CALDESC:Events for Equine Dental Providers of America
REFRESH-INTERVAL;VALUE=DURATION:PT1H
X-Robots-Tag:noindex
X-PUBLISHED-TTL:PT1H
BEGIN:VTIMEZONE
TZID:America/Detroit
BEGIN:DAYLIGHT
TZOFFSETFROM:-0500
TZOFFSETTO:-0400
TZNAME:EDT
DTSTART:20250309T070000
END:DAYLIGHT
BEGIN:STANDARD
TZOFFSETFROM:-0400
TZOFFSETTO:-0500
TZNAME:EST
DTSTART:20251102T060000
END:STANDARD
BEGIN:DAYLIGHT
TZOFFSETFROM:-0500
TZOFFSETTO:-0400
TZNAME:EDT
DTSTART:20260308T070000
END:DAYLIGHT
BEGIN:STANDARD
TZOFFSETFROM:-0400
TZOFFSETTO:-0500
TZNAME:EST
DTSTART:20261101T060000
END:STANDARD
BEGIN:DAYLIGHT
TZOFFSETFROM:-0500
TZOFFSETTO:-0400
TZNAME:EDT
DTSTART:20270314T070000
END:DAYLIGHT
BEGIN:STANDARD
TZOFFSETFROM:-0400
TZOFFSETTO:-0500
TZNAME:EST
DTSTART:20271107T060000
END:STANDARD
END:VTIMEZONE
BEGIN:VEVENT
DTSTART;VALUE=DATE:20261022
DTEND;VALUE=DATE:20261025
DTSTAMP:20260421T102441
CREATED:20231207T163515Z
LAST-MODIFIED:20260227T170107Z
UID:22535-1792627200-1792886399@edpaonline.org
SUMMARY:2026 EDPA Annual Continuing Education Conference and Business Meeting
DESCRIPTION:The 2026 EDPA Continuing Education Conference and Business Meeting will be held at the Tru by Hilton\, Katy Houston West\, on October 22-24\, 2026 in Katy\, Texas\, (281) 371-2111. \nTru by Hilton\, Katy Houston West is offering a discounted rate of 90.00 USD per night – The last day to book is Thursday\, October 15\, 2026. You can follow the link above to book online or you can contact the hotel directly and use promotional code EDPA to book over the phone. **HOTEL BREAKFAST IS INCLUDED WITH ROOM RESERVATIONS** The EDPA will NOT be providing breakfast this year. \nA schedule of events will be posted soon. \nREGISTRATION INFORMATION: \nIf you plan to attend this years conference\, please complete the registration form below. Registration closes September 30th. If you prefer to pay by check\, please download a copy of the 2026 Registration Form and submit it with your check to the address below\, postmarked no later than September 30th. Checks should be made payable to the Equine Dental Providers of America. \nEquine Dental Providers of America\n2305 S. Day Street\,\nBrenham\, TX 77833\n  \nFirst Name *Last Name *Street Address *Apartment\, suite\, etcCity *State/Province *ZIP / Postal Code *Country *AfghanistanAlbaniaAlgeriaAmerican SamoaAndorraAngolaAnguillaAntarcticaAntigua and BarbudaArgentinaArmeniaArubaAustraliaAustriaAzerbaijanBahamasBahrainBangladeshBarbadosBelarusBelgiumBelizeBeninBermudaBhutanBoliviaBosnia and HerzegovinaBotswanaBouvet IslandBrazilBritish Indian Ocean TerritoryBruneiBulgariaBurkina FasoBurundiCabo VerdeCambodiaCameroonCanadaCayman IslandsCentral African RepublicChadChileChina\, People's Republic ofChristmas IslandCocos IslandsColombiaComorosCongo\, Democratic Republic of theCongo\, Republic of theCook IslandsCosta RicaCroatiaCubaCuraçaoCyprusCzech RepublicCôte d'IvoireDenmarkDjiboutiDominicaDominican RepublicEast TimorEcuadorEgyptEl SalvadorEquatorial GuineaEritreaEstoniaEthiopiaFalkland IslandsFaroe IslandsFijiFinlandFranceFrance\, MetropolitanFrench GuianaFrench PolynesiaFrench South TerritoriesGabonGambiaGeorgiaGermanyGhanaGibraltarGreeceGreenlandGrenadaGuadeloupeGuamGuatemalaGuernseyGuineaGuinea-BissauGuyanaHaitiHeard Island And Mcdonald IslandHondurasHong KongHungaryIcelandIndiaIndonesiaIranIraqIrelandIsraelItalyJamaicaJapanJerseyJohnston IslandJordanKazakhstanKenyaKiribatiKorea\, Democratic People's Republic ofKorea\, Republic ofKosovoKuwaitKyrgyzstanLao People's Democratic RepublicLatviaLebanonLesothoLiberiaLibyaLiechtensteinLithuaniaLuxembourgMacauMadagascarMalawiMalaysiaMaldivesMaliMaltaMarshall IslandsMartiniqueMauritaniaMauritiusMayotteMexicoMicronesiaMoldovaMonacoMongoliaMontenegroMontserratMoroccoMozambiqueMyanmarNamibiaNauruNepalNetherlandsNetherlands AntillesNew CaledoniaNew ZealandNicaraguaNigerNigeriaNiueNorfolk IslandNorth MacedoniaNorthern Mariana IslandsNorwayOmanPakistanPalauPalestine\, State ofPanamaPapua New GuineaParaguayPeruPhilippinesPitcairn IslandsPolandPortugalPuerto RicoQatarReunion IslandRomaniaRussiaRwandaSaint HelenaSaint Kitts and NevisSaint LuciaSaint Pierre & MiquelonSaint Vincent and the GrenadinesSamoaSan MarinoSao Tome and PrincipeSaudi ArabiaSenegalSerbiaSeychellesSierra LeoneSingaporeSint MaartenSlovakiaSloveniaSolomon IslandsSomaliaSouth AfricaSouth Georgia and South SandwichSpainSri LankaStateless PersonsSudanSudan\, SouthSurinameSvalbard and Jan MayenSwazilandSwedenSwitzerlandSyriaTaiwan\, Republic of ChinaTajikistanTanzaniaThailandTogoTokelauTongaTrinidad and TobagoTunisiaTurkeyTurkmenistanTurks And Caicos IslandsTuvaluUS Minor Outlying IslandsUgandaUkraineUnited Arab EmiratesUnited KingdomUnited States of America (USA)UruguayUzbekistanVanuatuVatican CityVenezuelaVietnamVirgin Islands\, BritishVirgin Islands\, U.S.Wallis And Futuna IslandsWestern SaharaYemenZambiaZimbabweEmail Address *Confirm Email Address *Phone Number *Phone *CellHomeMembership Status (Select One) *$400.00 EDPA Member - EDPA Current Member (Early Bird Registration July 1-July 31)$500.00 EDPA Member - EDPA Current Member - Priority Seating$750.00	Non-Member or In-active Member$250.00 Student - Student EDPA Member (Subject to Board Approval)**Members get priority seating. Non-members must be board approved**Please Check All Areas You Plan on Attending *EDPA Continuing Education Friday Classes – Friday\, October 17 (Starting 8:30 am)*EDPA Member Meeting  -- Friday\, October 17 (5:00 - 6:00 pm -- Members Only)*EDPA Sponsored Dinner and Live Auction – Friday\, October 17 (Starting 6:00 pm)EDPA Continuing Education Saturday Classes – October 18 (Starting 9:00 am)*Registration is Required Prior to Meeting; Head Count MandatoryVeterinarian/Technician License Number & State Where LicensedStudents: List Current Attending School/Apprenticeship with dates (Subject to approval)Message0 / 180Total DueCredit / Debit Card *SubmitPlease do not fill in this field. \n\n“By supplying your license number and state of licensure\, you agree to sharing that information with the American Association of Veterinary State Boards (AAVSB) for the sole purpose of the RACEtrack powered by CE Broker continuing education tracking program. No other personally identifiable information will be shared with the AAVSB nor any of its vendors. RACEtrack allows you to record all your continuing education course work in a centralized database providing a simple way for you to exchange that information with your credentialing agencies. RACEtrack is a free service to all licensees. To learn more about RACEtrack\, visit aavsb.org/RACEtrack.” \nFor further information or to create a RACEtrack account\, please visit https://aavsb.org/ce-services/racetrack \n 
URL:https://edpaonline.org/event/menu-continuing-education-conference/
LOCATION:Tru by Hilton Katy Houston West\, 200 Ernstes Rd\, Katy\, TX\, 77494\, United States
CATEGORIES:Our Events
ATTACH;FMTTYPE=image/png:https://edpaonline.org/wp-content/uploads/2023/12/Screenshot-2026-02-27-103304.png
END:VEVENT
END:VCALENDAR